BEGIN:VCALENDAR
VERSION:2.0
PRODID:-//Walsingham Horseman's Association - ECPv6.0.8//NONSGML v1.0//EN
CALSCALE:GREGORIAN
METHOD:PUBLISH
X-WR-CALNAME:Walsingham Horseman's Association
X-ORIGINAL-URL:https://www.whahorse.org
X-WR-CALDESC:Events for Walsingham Horseman's Association
REFRESH-INTERVAL;VALUE=DURATION:PT1H
X-Robots-Tag:noindex
X-PUBLISHED-TTL:PT1H
BEGIN:VTIMEZONE
TZID:Europe/Paris
BEGIN:DAYLIGHT
TZOFFSETFROM:+0100
TZOFFSETTO:+0200
TZNAME:CEST
DTSTART:20220327T010000
END:DAYLIGHT
BEGIN:STANDARD
TZOFFSETFROM:+0200
TZOFFSETTO:+0100
TZNAME:CET
DTSTART:20221030T010000
END:STANDARD
END:VTIMEZONE
BEGIN:VEVENT
DTSTART;TZID=Europe/Paris:20220912T183000
DTEND;TZID=Europe/Paris:20220912T193000
DTSTAMP:20260425T122843
CREATED:20220809T003322Z
LAST-MODIFIED:20220809T004555Z
UID:1010-1663007400-1663011000@www.whahorse.org
SUMMARY:WHA Annual OPEN Board Meeting
DESCRIPTION:The WHA Board’s September meeting is open to attendance by all members. The meeting will be held in the WHA Equestrian Park from 6:30 p.m. to 7:30 p.m. Join us to hear what the WHA has planned for the rest of the year. Take part in active discussion and collaboration. We recommend those that are attending to bring their own chair.
URL:https://www.whahorse.org/event/wha-annual-open-board-meeting/
LOCATION:Walsingham Equestian Park\, 12693 102nd Ave.\, Seminole\, FL\, 33772
CATEGORIES:Meeting
END:VEVENT
END:VCALENDAR